BEGIN:VCALENDAR
VERSION:2.0
PRODID:-//ChamberMaster//Event Calendar 2.0//EN
METHOD:PUBLISH
X-PUBLISHED-TTL:P1H
REFRESH-INTERVAL:P1H
CALSCALE:GREGORIAN
BEGIN:VTIMEZONE
TZID:America/Chicago
BEGIN:DAYLIGHT
RRULE:FREQ=YEARLY;BYMONTH=3;BYDAY=2SU
DTSTART:20070101T000000
TZOFFSETFROM:-0600
TZOFFSETTO:-0500
TZNAME:Central Daylight Time
END:DAYLIGHT
BEGIN:STANDARD
RRULE:FREQ=YEARLY;BYMONTH=11;BYDAY=1SU
DTSTART:20070101T000000
TZOFFSETFROM:-0500
TZOFFSETTO:-0600
TZNAME:Central Standard Time
END:STANDARD
END:VTIMEZONE
BEGIN:VEVENT
DTSTART;TZID=America/Chicago:20240608T163000
DTEND;TZID=America/Chicago:20240608T223000
X-MICROSOFT-CDO-ALLDAYEVENT:FALSE
SUMMARY:Froggy Summer Concert Series
DESCRIPTION:FROGGY 103.7 ALONG WITH DAVID TAYLOR CHRYSLER DODGE JEEP RAM IN MURRAY AND CALLOWAY COUNTY TOURISM PRESENT:THE FROGGY 103.7  SUMMER CONCERT SERIES PRODUCED BY VOLUNTEER ENTERTAINMENTFOUR NIGHTS OF FROGTASTIC MUSIC IN FOUR DIFFERENT LOCAL VENUES!NIGHT 1: SATURDAY\, JUNE 8TH AT THE BIG APPLE GRILL AND BAR FEATURING LEWIS BRICE BACK IN FROGGYLAND FOR HIS SECOND STRAIGHT YEAR\, WITH SPECIAL GUEST HIGH NOON MOON!  THIS IS A FREE CONCERT\nNIGHT 2: THURSDAY\, JULY 4TH ON THE NORTHEAST LAWN AT ROY STEWART STADIUM FEATURING THE LEGENDARY RICOCHET PLUS\, THE FINALS OF FROGGYLAND IDOL! THERE WILL ALSO BE A PETTING ZOO COURTESY OF LLAMA LLAMA ADVENTURES\, INFLATABLES FOR THE KIDS\, AND FOOD. CITY FIREWORKS WILL FOLLOW! THIS IS A FREE CONCERT\nNIGHT 3: SATURDAY\, AUGUST 24TH AT TAP 216 FEATURING LIVE AND LOCAL MUSIC! THIS IS A FREE CONCERTAND THE GRAND FINALE:\nNIGHT 4: FRIDAY\, SEPTEMBER 13TH AT THE CFSB CENTER FEATURING PLATINUM RECORDING ARTIST CHRIS LANE ALONG WITH SPECIAL GUESTS MATT STELL AND AMERICAN IDOL SEASON 21 FINALIST COLIN STOUGH!! TICKETS JUST $49/$39/$29 AND ON SALE FRIDAY\, MARCH 29TH ONLINE AT TICKETMASTER! DETAILS COMING SOON!!GET YOUR FAMILY AND FRIENDS TOGETHER AND COME ENJOY THE 2024 FROGGY SUMMER CONCERT SERIES!\nhttps://www.froggy103.com/froggy-summer-concert-series/?fbclid=IwAR2XI_BybXKcG5v_VGpL6DXEdHHXE2PIBqQSMUyvRvK7QcUjiqw0BxoZh7o
X-ALT-DESC;FMTTYPE=text/html:<!DOCTYPE html><html><head><title></title></head><body aria-disabled="false"><p style="margin: 0px 0px 1rem\; line-height: var(--body-font-line-height)\; overflow-wrap: break-word\; color: rgb(0\, 0\, 0)\; font-family: proxima-nova\; font-size: 17.6px\; font-style: normal\; font-variant-ligatures: normal\; font-variant-caps: normal\; font-weight: 300\; letter-spacing: normal\; orphans: 2\; text-align: start\; text-indent: 0px\; text-transform: none\; widows: 2\; word-spacing: 0px\; -webkit-text-stroke-width: 0px\; white-space: pre-wrap\; background-color: rgb(255\, 255\, 255)\; text-decoration-thickness: initial\; text-decoration-style: initial\; text-decoration-color: initial\;">FROGGY 103.7 ALONG WITH DAVID TAYLOR CHRYSLER DODGE JEEP RAM IN MURRAY AND CALLOWAY COUNTY TOURISM PRESENT:</p><p style="margin: 1rem 0px\; line-height: var(--body-font-line-height)\; overflow-wrap: break-word\; color: rgb(0\, 0\, 0)\; font-family: proxima-nova\; font-size: 17.6px\; font-style: normal\; font-variant-ligatures: normal\; font-variant-caps: normal\; font-weight: 300\; letter-spacing: normal\; orphans: 2\; text-align: start\; text-indent: 0px\; text-transform: none\; widows: 2\; word-spacing: 0px\; -webkit-text-stroke-width: 0px\; white-space: pre-wrap\; background-color: rgb(255\, 255\, 255)\; text-decoration-thickness: initial\; text-decoration-style: initial\; text-decoration-color: initial\;"><strong fr-original-style="font-weight: 700\; overflow-wrap: break-word\;" style="font-weight: 700\; overflow-wrap: break-word\;">THE FROGGY 103.7 &nbsp\;SUMMER CONCERT SERIES PRODUCED BY VOLUNTEER ENTERTAINMENT</strong></p><p style="margin: 1rem 0px\; line-height: var(--body-font-line-height)\; overflow-wrap: break-word\; color: rgb(0\, 0\, 0)\; font-family: proxima-nova\; font-size: 17.6px\; font-style: normal\; font-variant-ligatures: normal\; font-variant-caps: normal\; font-weight: 300\; letter-spacing: normal\; orphans: 2\; text-align: start\; text-indent: 0px\; text-transform: none\; widows: 2\; word-spacing: 0px\; -webkit-text-stroke-width: 0px\; white-space: pre-wrap\; background-color: rgb(255\, 255\, 255)\; text-decoration-thickness: initial\; text-decoration-style: initial\; text-decoration-color: initial\;">FOUR NIGHTS OF FROGTASTIC MUSIC IN FOUR DIFFERENT LOCAL VENUES!</p><p style="margin: 1rem 0px\; line-height: var(--body-font-line-height)\; overflow-wrap: break-word\; color: rgb(0\, 0\, 0)\; font-family: proxima-nova\; font-size: 17.6px\; font-style: normal\; font-variant-ligatures: normal\; font-variant-caps: normal\; font-weight: 300\; letter-spacing: normal\; orphans: 2\; text-align: start\; text-indent: 0px\; text-transform: none\; widows: 2\; word-spacing: 0px\; -webkit-text-stroke-width: 0px\; white-space: pre-wrap\; background-color: rgb(255\, 255\, 255)\; text-decoration-thickness: initial\; text-decoration-style: initial\; text-decoration-color: initial\;">NIGHT 1: <strong fr-original-style="font-weight: 700\; overflow-wrap: break-word\;" style="font-weight: 700\; overflow-wrap: break-word\;">SATURDAY\, JUNE 8TH</strong> AT THE BIG APPLE GRILL AND BAR FEATURING <a fr-original-style="background-image: unset\; background-position: unset\; background-size: unset\; background-repeat: unset\; background-attachment: initial\; background-origin: initial\; background-clip: initial\; background-color: initial\; cursor: pointer\; color: var(--paragraphLinkColor)\; text-decoration: underline 1px solid currentcolor\; white-space: initial\; text-underline-offset: 0.2em\; text-decoration-skip-ink: auto\; overflow-wrap: break-word\;" href="https://www.lewisbrice.com/" style="background-image: unset\; background-position: unset\; background-size: unset\; background-repeat: unset\; background-attachment: initial\; background-origin: initial\; background-clip: initial\; background-color: initial\; cursor: pointer\; color: var(--paragraphLinkColor)\; text-decoration: underline 1px solid currentcolor\; white-space: initial\; text-underline-offset: 0.2em\; text-decoration-skip-ink: auto\; overflow-wrap: break-word\; user-select: auto\;"><strong fr-original-style="font-weight: 700\; overflow-wrap: break-word\;" style="font-weight: 700\; overflow-wrap: break-word\;">LEWIS BRICE&nbsp\;</strong></a>BACK IN FROGGYLAND FOR HIS SECOND STRAIGHT YEAR\, WITH SPECIAL GUEST <a fr-original-style="background-image: unset\; background-position: unset\; background-size: unset\; background-repeat: unset\; background-attachment: initial\; background-origin: initial\; background-clip: initial\; background-color: initial\; cursor: pointer\; color: var(--paragraphLinkColor)\; text-decoration: underline 1px solid currentcolor\; white-space: initial\; text-underline-offset: 0.2em\; text-decoration-skip-ink: auto\; overflow-wrap: break-word\;" href="https://www.facebook.com/HighNoonMoon1/" style="background-image: unset\; background-position: unset\; background-size: unset\; background-repeat: unset\; background-attachment: initial\; background-origin: initial\; background-clip: initial\; background-color: initial\; cursor: pointer\; color: var(--paragraphLinkColor)\; text-decoration: underline 1px solid currentcolor\; white-space: initial\; text-underline-offset: 0.2em\; text-decoration-skip-ink: auto\; overflow-wrap: break-word\; user-select: auto\;"><strong fr-original-style="font-weight: 700\; overflow-wrap: break-word\;" style="font-weight: 700\; overflow-wrap: break-word\;">HIGH NOON MOON</strong></a><strong fr-original-style="font-weight: 700\; overflow-wrap: break-word\;" style="font-weight: 700\; overflow-wrap: break-word\;">! &nbsp\;THIS IS A FREE CONCERT</strong></p><p style="margin: 1rem 0px\; line-height: var(--body-font-line-height)\; overflow-wrap: break-word\; color: rgb(0\, 0\, 0)\; font-family: proxima-nova\; font-size: 17.6px\; font-style: normal\; font-variant-ligatures: normal\; font-variant-caps: normal\; font-weight: 300\; letter-spacing: normal\; orphans: 2\; text-align: start\; text-indent: 0px\; text-transform: none\; widows: 2\; word-spacing: 0px\; -webkit-text-stroke-width: 0px\; white-space: pre-wrap\; background-color: rgb(255\, 255\, 255)\; text-decoration-thickness: initial\; text-decoration-style: initial\; text-decoration-color: initial\;"><br></p><p style="margin: 1rem 0px\; line-height: var(--body-font-line-height)\; overflow-wrap: break-word\; color: rgb(0\, 0\, 0)\; font-family: proxima-nova\; font-size: 17.6px\; font-style: normal\; font-variant-ligatures: normal\; font-variant-caps: normal\; font-weight: 300\; letter-spacing: normal\; orphans: 2\; text-align: start\; text-indent: 0px\; text-transform: none\; widows: 2\; word-spacing: 0px\; -webkit-text-stroke-width: 0px\; white-space: pre-wrap\; background-color: rgb(255\, 255\, 255)\; text-decoration-thickness: initial\; text-decoration-style: initial\; text-decoration-color: initial\;">NIGHT 2: <strong fr-original-style="font-weight: 700\; overflow-wrap: break-word\;" style="font-weight: 700\; overflow-wrap: break-word\;">THURSDAY\, JULY 4TH</strong> ON THE NORTHEAST LAWN AT ROY STEWART STADIUM FEATURING THE LEGENDARY <a fr-original-style="background-image: unset\; background-position: unset\; background-size: unset\; background-repeat: unset\; background-attachment: initial\; background-origin: initial\; background-clip: initial\; background-color: initial\; cursor: pointer\; color: var(--paragraphLinkColor)\; text-decoration: underline 1px solid currentcolor\; white-space: initial\; text-underline-offset: 0.2em\; text-decoration-skip-ink: auto\; overflow-wrap: break-word\;" href="https://ricochetonline.com/" style="background-image: unset\; background-position: unset\; background-size: unset\; background-repeat: unset\; background-attachment: initial\; background-origin: initial\; background-clip: initial\; background-color: initial\; cursor: pointer\; color: var(--paragraphLinkColor)\; text-decoration: underline 1px solid currentcolor\; white-space: initial\; text-underline-offset: 0.2em\; text-decoration-skip-ink: auto\; overflow-wrap: break-word\; user-select: auto\;"><strong fr-original-style="font-weight: 700\; overflow-wrap: break-word\;" style="font-weight: 700\; overflow-wrap: break-word\;">RICOCHET</strong></a> PLUS\, <strong fr-original-style="font-weight: 700\; overflow-wrap: break-word\;" style="font-weight: 700\; overflow-wrap: break-word\;">THE FINALS OF FROGGYLAND IDOL!&nbsp\;</strong>THERE WILL ALSO BE A PETTING ZOO COURTESY OF LLAMA LLAMA ADVENTURES\, INFLATABLES FOR THE KIDS\, AND FOOD.<strong fr-original-style="font-weight: 700\; overflow-wrap: break-word\;" style="font-weight: 700\; overflow-wrap: break-word\;">&nbsp\;CITY FIREWORKS WILL FOLLOW! THIS IS A FREE CONCERT</strong></p><p style="margin: 1rem 0px\; line-height: var(--body-font-line-height)\; overflow-wrap: break-word\; color: rgb(0\, 0\, 0)\; font-family: proxima-nova\; font-size: 17.6px\; font-style: normal\; font-variant-ligatures: normal\; font-variant-caps: normal\; font-weight: 300\; letter-spacing: normal\; orphans: 2\; text-align: start\; text-indent: 0px\; text-transform: none\; widows: 2\; word-spacing: 0px\; -webkit-text-stroke-width: 0px\; white-space: pre-wrap\; background-color: rgb(255\, 255\, 255)\; text-decoration-thickness: initial\; text-decoration-style: initial\; text-decoration-color: initial\;"><br></p><p style="margin: 1rem 0px\; line-height: var(--body-font-line-height)\; overflow-wrap: break-word\; color: rgb(0\, 0\, 0)\; font-family: proxima-nova\; font-size: 17.6px\; font-style: normal\; font-variant-ligatures: normal\; font-variant-caps: normal\; font-weight: 300\; letter-spacing: normal\; orphans: 2\; text-align: start\; text-indent: 0px\; text-transform: none\; widows: 2\; word-spacing: 0px\; -webkit-text-stroke-width: 0px\; white-space: pre-wrap\; background-color: rgb(255\, 255\, 255)\; text-decoration-thickness: initial\; text-decoration-style: initial\; text-decoration-color: initial\;">NIGHT 3: <strong fr-original-style="font-weight: 700\; overflow-wrap: break-word\;" style="font-weight: 700\; overflow-wrap: break-word\;">SATURDAY\, AUGUST 24TH</strong> AT TAP 216 FEATURING LIVE AND LOCAL MUSIC! <strong fr-original-style="font-weight: 700\; overflow-wrap: break-word\;" style="font-weight: 700\; overflow-wrap: break-word\;">THIS IS A FREE CONCERT</strong></p><p style="margin: 1rem 0px\; line-height: var(--body-font-line-height)\; overflow-wrap: break-word\; color: rgb(0\, 0\, 0)\; font-family: proxima-nova\; font-size: 17.6px\; font-style: normal\; font-variant-ligatures: normal\; font-variant-caps: normal\; font-weight: 300\; letter-spacing: normal\; orphans: 2\; text-align: start\; text-indent: 0px\; text-transform: none\; widows: 2\; word-spacing: 0px\; -webkit-text-stroke-width: 0px\; white-space: pre-wrap\; background-color: rgb(255\, 255\, 255)\; text-decoration-thickness: initial\; text-decoration-style: initial\; text-decoration-color: initial\;">AND&hellip\;THE GRAND FINALE:</p><p style="margin: 1rem 0px\; line-height: var(--body-font-line-height)\; overflow-wrap: break-word\; color: rgb(0\, 0\, 0)\; font-family: proxima-nova\; font-size: 17.6px\; font-style: normal\; font-variant-ligatures: normal\; font-variant-caps: normal\; font-weight: 300\; letter-spacing: normal\; orphans: 2\; text-align: start\; text-indent: 0px\; text-transform: none\; widows: 2\; word-spacing: 0px\; -webkit-text-stroke-width: 0px\; white-space: pre-wrap\; background-color: rgb(255\, 255\, 255)\; text-decoration-thickness: initial\; text-decoration-style: initial\; text-decoration-color: initial\;"><br></p><p style="margin: 1rem 0px\; line-height: var(--body-font-line-height)\; overflow-wrap: break-word\; color: rgb(0\, 0\, 0)\; font-family: proxima-nova\; font-size: 17.6px\; font-style: normal\; font-variant-ligatures: normal\; font-variant-caps: normal\; font-weight: 300\; letter-spacing: normal\; orphans: 2\; text-align: start\; text-indent: 0px\; text-transform: none\; widows: 2\; word-spacing: 0px\; -webkit-text-stroke-width: 0px\; white-space: pre-wrap\; background-color: rgb(255\, 255\, 255)\; text-decoration-thickness: initial\; text-decoration-style: initial\; text-decoration-color: initial\;">NIGHT 4: <strong fr-original-style="font-weight: 700\; overflow-wrap: break-word\;" style="font-weight: 700\; overflow-wrap: break-word\;">FRIDAY\, SEPTEMBER 13TH</strong> AT THE CFSB CENTER FEATURING PLATINUM RECORDING ARTIST <a fr-original-style="background-image: unset\; background-position: unset\; background-size: unset\; background-repeat: unset\; background-attachment: initial\; background-origin: initial\; background-clip: initial\; background-color: initial\; cursor: pointer\; color: var(--paragraphLinkColor)\; text-decoration: underline 1px solid currentcolor\; white-space: initial\; text-underline-offset: 0.2em\; text-decoration-skip-ink: auto\; overflow-wrap: break-word\;" href="https://www.iamchrislane.com/" style="background-image: unset\; background-position: unset\; background-size: unset\; background-repeat: unset\; background-attachment: initial\; background-origin: initial\; background-clip: initial\; background-color: initial\; cursor: pointer\; color: var(--paragraphLinkColor)\; text-decoration: underline 1px solid currentcolor\; white-space: initial\; text-underline-offset: 0.2em\; text-decoration-skip-ink: auto\; overflow-wrap: break-word\; user-select: auto\;"><strong fr-original-style="font-weight: 700\; overflow-wrap: break-word\;" style="font-weight: 700\; overflow-wrap: break-word\;">CHRIS LANE</strong></a> ALONG WITH SPECIAL GUESTS <a fr-original-style="background-image: unset\; background-position: unset\; background-size: unset\; background-repeat: unset\; background-attachment: initial\; background-origin: initial\; background-clip: initial\; background-color: initial\; cursor: pointer\; color: var(--paragraphLinkColor)\; text-decoration: underline 1px solid currentcolor\; white-space: initial\; text-underline-offset: 0.2em\; text-decoration-skip-ink: auto\; overflow-wrap: break-word\;" href="https://www.mattstell.com/" style="background-image: unset\; background-position: unset\; background-size: unset\; background-repeat: unset\; background-attachment: initial\; background-origin: initial\; background-clip: initial\; background-color: initial\; cursor: pointer\; color: var(--paragraphLinkColor)\; text-decoration: underline 1px solid currentcolor\; white-space: initial\; text-underline-offset: 0.2em\; text-decoration-skip-ink: auto\; overflow-wrap: break-word\; user-select: auto\;"><strong fr-original-style="font-weight: 700\; overflow-wrap: break-word\;" style="font-weight: 700\; overflow-wrap: break-word\;">MATT STELL</strong></a> AND AMERICAN IDOL SEASON 21 FINALIST <a fr-original-style="background-image: unset\; background-position: unset\; background-size: unset\; background-repeat: unset\; background-attachment: initial\; background-origin: initial\; background-clip: initial\; background-color: initial\; cursor: pointer\; color: var(--paragraphLinkColor)\; text-decoration: underline 1px solid currentcolor\; white-space: initial\; text-underline-offset: 0.2em\; text-decoration-skip-ink: auto\; overflow-wrap: break-word\;" href="https://www.officialcolinstough.com/" style="background-image: unset\; background-position: unset\; background-size: unset\; background-repeat: unset\; background-attachment: initial\; background-origin: initial\; background-clip: initial\; background-color: initial\; cursor: pointer\; color: var(--paragraphLinkColor)\; text-decoration: underline 1px solid currentcolor\; white-space: initial\; text-underline-offset: 0.2em\; text-decoration-skip-ink: auto\; overflow-wrap: break-word\; user-select: auto\;"><strong fr-original-style="font-weight: 700\; overflow-wrap: break-word\;" style="font-weight: 700\; overflow-wrap: break-word\;">COLIN STOUGH</strong></a>!! <strong fr-original-style="font-weight: 700\; overflow-wrap: break-word\;" style="font-weight: 700\; overflow-wrap: break-word\;">TICKETS JUST $49/$39/$29 AND ON SALE FRIDAY\, MARCH 29TH</strong> ONLINE AT TICKETMASTER!<strong fr-original-style="font-weight: 700\; overflow-wrap: break-word\;" style="font-weight: 700\; overflow-wrap: break-word\;">&nbsp\;DETAILS COMING SOON!!</strong></p><p style="margin: 1rem 0px 0px\; line-height: var(--body-font-line-height)\; overflow-wrap: break-word\; color: rgb(0\, 0\, 0)\; font-family: proxima-nova\; font-size: 17.6px\; font-style: normal\; font-variant-ligatures: normal\; font-variant-caps: normal\; font-weight: 300\; letter-spacing: normal\; orphans: 2\; text-align: start\; text-indent: 0px\; text-transform: none\; widows: 2\; word-spacing: 0px\; -webkit-text-stroke-width: 0px\; white-space: pre-wrap\; background-color: rgb(255\, 255\, 255)\; text-decoration-thickness: initial\; text-decoration-style: initial\; text-decoration-color: initial\;">GET YOUR FAMILY AND FRIENDS TOGETHER AND COME ENJOY THE 2024 FROGGY SUMMER CONCERT SERIES!</p><p style="margin: 1rem 0px 0px\; line-height: var(--body-font-line-height)\; overflow-wrap: break-word\; color: rgb(0\, 0\, 0)\; font-family: proxima-nova\; font-size: 17.6px\; font-style: normal\; font-variant-ligatures: normal\; font-variant-caps: normal\; font-weight: 300\; letter-spacing: normal\; orphans: 2\; text-align: start\; text-indent: 0px\; text-transform: none\; widows: 2\; word-spacing: 0px\; -webkit-text-stroke-width: 0px\; white-space: pre-wrap\; background-color: rgb(255\, 255\, 255)\; text-decoration-thickness: initial\; text-decoration-style: initial\; text-decoration-color: initial\;"><br></p><p style="margin: 1rem 0px 0px\; line-height: var(--body-font-line-height)\; overflow-wrap: break-word\; color: rgb(0\, 0\, 0)\; font-family: proxima-nova\; font-size: 17.6px\; font-style: normal\; font-variant-ligatures: normal\; font-variant-caps: normal\; font-weight: 300\; letter-spacing: normal\; orphans: 2\; text-align: start\; text-indent: 0px\; text-transform: none\; widows: 2\; word-spacing: 0px\; -webkit-text-stroke-width: 0px\; white-space: pre-wrap\; background-color: rgb(255\, 255\, 255)\; text-decoration-thickness: initial\; text-decoration-style: initial\; text-decoration-color: initial\;"><a fr-original-style="" href="https://www.froggy103.com/froggy-summer-concert-series/?fbclid=IwAR2XI_BybXKcG5v_VGpL6DXEdHHXE2PIBqQSMUyvRvK7QcUjiqw0BxoZh7o" style="user-select: auto\;">https://www.froggy103.com/froggy-summer-concert-series/?fbclid=IwAR2XI_BybXKcG5v_VGpL6DXEdHHXE2PIBqQSMUyvRvK7QcUjiqw0BxoZh7o</a></p></body></html>
LOCATION:1005 Arcadia Cir Murray KY 42071
UID:e.3821.991032
SEQUENCE:3
DTSTAMP:20260421T165511Z
URL:https://business.mymurray.com/calendar/Details/froggy-summer-concert-series-1134733?sourceTypeId=Hub
END:VEVENT
END:VCALENDAR
