BEGIN:VCALENDAR
VERSION:2.0
PRODID:-//ChamberMaster//Event Calendar 2.0//EN
METHOD:PUBLISH
X-PUBLISHED-TTL:P1H
REFRESH-INTERVAL:P1H
CALSCALE:GREGORIAN
BEGIN:VTIMEZONE
TZID:America/Chicago
BEGIN:DAYLIGHT
RRULE:FREQ=YEARLY;BYMONTH=3;BYDAY=2SU
DTSTART:20070101T000000
TZOFFSETFROM:-0600
TZOFFSETTO:-0500
TZNAME:Central Daylight Time
END:DAYLIGHT
BEGIN:STANDARD
RRULE:FREQ=YEARLY;BYMONTH=11;BYDAY=1SU
DTSTART:20070101T000000
TZOFFSETFROM:-0500
TZOFFSETTO:-0600
TZNAME:Central Standard Time
END:STANDARD
END:VTIMEZONE
BEGIN:VEVENT
DTSTART;TZID=America/Chicago:20260418T150000
DTEND;TZID=America/Chicago:20260418T190000
X-MICROSOFT-CDO-ALLDAYEVENT:FALSE
SUMMARY:Spring Fling Community Picnic
DESCRIPTION:Spring Fling Picnic - come out to ring in spring with the community! Lawn games\, food trucks\, raffles for prizes\, giveaways\, and partnerships with local businesses. Fun for all ages!
X-ALT-DESC;FMTTYPE=text/html:Spring Fling Picnic - come out to ring in spring with the community! Lawn games\, food trucks\, raffles for prizes\, giveaways\, and partnerships with local businesses. Fun for all ages!
LOCATION:300 Hickory Dr. Murray KY 42071
UID:e.3821.1440745
SEQUENCE:3
DTSTAMP:20260419T131402Z
URL:https://business.mymurray.com/calendar/Details/spring-fling-community-picnic-1705924?sourceTypeId=Hub
END:VEVENT
END:VCALENDAR
